BEGIN:VCALENDAR
VERSION:2.0
PRODID:-//See Passaic County - ECPv6.15.17.1//NONSGML v1.0//EN
CALSCALE:GREGORIAN
METHOD:PUBLISH
X-WR-CALNAME:See Passaic County
X-ORIGINAL-URL:https://seepassaiccounty.org
X-WR-CALDESC:Events for See Passaic County
REFRESH-INTERVAL;VALUE=DURATION:PT1H
X-Robots-Tag:noindex
X-PUBLISHED-TTL:PT1H
BEGIN:VTIMEZONE
TZID:America/New_York
BEGIN:DAYLIGHT
TZOFFSETFROM:-0500
TZOFFSETTO:-0400
TZNAME:EDT
DTSTART:20250309T070000
END:DAYLIGHT
BEGIN:STANDARD
TZOFFSETFROM:-0400
TZOFFSETTO:-0500
TZNAME:EST
DTSTART:20251102T060000
END:STANDARD
BEGIN:DAYLIGHT
TZOFFSETFROM:-0500
TZOFFSETTO:-0400
TZNAME:EDT
DTSTART:20260308T070000
END:DAYLIGHT
BEGIN:STANDARD
TZOFFSETFROM:-0400
TZOFFSETTO:-0500
TZNAME:EST
DTSTART:20261101T060000
END:STANDARD
BEGIN:DAYLIGHT
TZOFFSETFROM:-0500
TZOFFSETTO:-0400
TZNAME:EDT
DTSTART:20270314T070000
END:DAYLIGHT
BEGIN:STANDARD
TZOFFSETFROM:-0400
TZOFFSETTO:-0500
TZNAME:EST
DTSTART:20271107T060000
END:STANDARD
END:VTIMEZONE
BEGIN:VEVENT
DTSTART;TZID=America/New_York:20260508T190000
DTEND;TZID=America/New_York:20260508T200000
DTSTAMP:20260420T010354
CREATED:20260327T201700Z
LAST-MODIFIED:20260327T201751Z
UID:24456-1778266800-1778270400@seepassaiccounty.org
SUMMARY:Fireside Chat with Franklin D. Roosevelt
DESCRIPTION:Fireside Fridays Historical Series \nRetired Cranford Teacher and Wayne Museum Attendant Paul Maloney portrays Franklin D. Roosevelt for a true “Fireside Chat”. “Franklin D. Roosevelt” will discuss his presidency\, disability\, and personal life along with some information on Passaic County during the New Deal and World War II. Maloney taught for Cranford Public Schools for many years\, was a Union County Teacher of the Year\, and has portrayed Abraham Lincoln\, Benjamin Franklin\, and Franklin Roosevelt in his teaching and for presentations. \nPre-Registration Required Here
URL:https://seepassaiccounty.org/event/fireside-chat-with-franklin-d-roosevelt/
LOCATION:Rifle Camp Park\, 387 Rifle Camp Road\, Woodland Park\, NJ\, 07424
CATEGORIES:Family Fun,Lecture
ATTACH;FMTTYPE=image/jpeg:https://seepassaiccounty.org/wp-content/uploads/2026/03/Fireside-Friday-Image-01-2026-169.jpg
END:VEVENT
BEGIN:VEVENT
DTSTART;TZID=America/New_York:20260717T193000
DTEND;TZID=America/New_York:20260717T203000
DTSTAMP:20260420T010354
CREATED:20260327T210350Z
LAST-MODIFIED:20260327T211250Z
UID:24461-1784316600-1784320200@seepassaiccounty.org
SUMMARY:Fireside Fridays: Paterson Silk Strikes
DESCRIPTION:Fireside Fridays Historical Series \nJoin us around the fire as we dive into the story of the Paterson Silk Strike of 1913\, exploring the causes\, key events\, and lasting impact of this pivotal labor movement. We’ll also discuss how American labor unions have evolved over the years\, shaping workers’ rights and influencing social and economic change. Cozy up by the fire as we bring history to life through engaging stories and thoughtful conversation. \nPre-Registration Required Here
URL:https://seepassaiccounty.org/event/fireside-fridays-paterson-silk-strikes/
LOCATION:Rifle Camp Park\, 387 Rifle Camp Road\, Woodland Park\, NJ\, 07424
CATEGORIES:Family Fun,Lecture
ATTACH;FMTTYPE=image/jpeg:https://seepassaiccounty.org/wp-content/uploads/2026/03/Paterson-Silk-Making-169-2026.jpg
END:VEVENT
BEGIN:VEVENT
DTSTART;TZID=America/New_York:20260731T191500
DTEND;TZID=America/New_York:20260731T201500
DTSTAMP:20260420T010354
CREATED:20260327T211808Z
LAST-MODIFIED:20260327T211808Z
UID:24464-1785525300-1785528900@seepassaiccounty.org
SUMMARY:Fireside Fridays: The Making of Garret Mountain Reservation
DESCRIPTION:Fireside Fridays Historical Series \nJoin us for a fireside Friday celebrating the 97th Anniversary of Garret Mountain Reservation! This chat will highlight Federick Law Olmsted’s vision for public parks\, its impact on the Passaic County Park System\, and how Garret Mountain and Rifle Camp Park were designed by the Olmsted Brother’s Firm in 1928. Presented by DCHA Curator Isabella Costa. \nPre-Registration Required Here
URL:https://seepassaiccounty.org/event/fireside-fridays-the-making-of-garret-mountain-reservation/
LOCATION:Rifle Camp Park\, 387 Rifle Camp Road\, Woodland Park\, NJ\, 07424
CATEGORIES:Family Fun,Lecture
ATTACH;FMTTYPE=image/jpeg:https://seepassaiccounty.org/wp-content/uploads/2026/03/Garrett-Mountain-169-2026.jpg
END:VEVENT
BEGIN:VEVENT
DTSTART;TZID=America/New_York:20260821T190000
DTEND;TZID=America/New_York:20260821T200000
DTSTAMP:20260420T010354
CREATED:20260327T212049Z
LAST-MODIFIED:20260327T212049Z
UID:24466-1787338800-1787342400@seepassaiccounty.org
SUMMARY:Fireside Fridays: The Origins of the Wanaque Reservoir
DESCRIPTION:Fireside Fridays Historical Series \nToday\, the Wanaque Reservoir is a major landmark of upper Passaic County\, but at the turn of the 20th century\, that valley was home to several families\, businesses\, farms\, and a lush forest. Join us for a fireside chat on how the construction of the Wanaque Reservoir in the 1920s upended one community and reshaped several others. \nPre-Registration Required Here
URL:https://seepassaiccounty.org/event/fireside-fridays-the-origins-of-the-wanaque-reservoir/
LOCATION:Rifle Camp Park\, 387 Rifle Camp Road\, Woodland Park\, NJ\, 07424
CATEGORIES:Family Fun,Lecture
ATTACH;FMTTYPE=image/jpeg:https://seepassaiccounty.org/wp-content/uploads/2026/03/Wanaque-Reservoir-2026-169.jpg
END:VEVENT
END:VCALENDAR